BEGIN:VCALENDAR
VERSION:2.0
PRODID:icalendar-ruby
CALSCALE:GREGORIAN
METHOD:PUBLISH
BEGIN:VEVENT
DTSTAMP:20260422T151913Z
UID:55-563790@bridgeoflongview.com
DTSTART:20260523T180000Z
DTEND:20260523T190000Z
CLASS:PUBLIC
CREATED:20260418T150105
DESCRIPTION:Come join us. Bring your gloves and rags\, and window cleaning 
 supplies. 
LAST-MODIFIED:20260418T150105
LOCATION:
SUMMARY:11a Spring Cleaning Interior work
URL;VALUE=URI:https://bridgeoflongview.com/events/11a-spring-cleaning-inter
 ior-work/2026-05-23
ATTACH;FILENAME=What-Is-Same-Day-Cleaning-And-How-Does-It-Work_.jpg;FMTTYPE
 =image/jpeg:https://dq5pwpg1q8ru0.cloudfront.net/2026/03/27/21/09/52/a03d0
 64f-6980-4ede-909d-11d11a4ad37e/What-Is-Same-Day-Cleaning-And-How-Does-It-
 Work_.jpg
END:VEVENT
END:VCALENDAR
