BEGIN:VCALENDAR
VERSION:2.0
PRODID:icalendar-ruby
CALSCALE:GREGORIAN
METHOD:PUBLISH
BEGIN:VEVENT
DTSTAMP:20260420T203755Z
UID:7-568382@bridgeoflongview.com
DTSTART:20260830T180000Z
DTEND:20260830T193000Z
CLASS:PUBLIC
CREATED:20260420T122936
DESCRIPTION:
LAST-MODIFIED:20260420T122936
LOCATION:The Bridge Church
SUMMARY:Worship Service
URL;VALUE=URI:https://bridgeoflongview.com/events/worship-service--7/2026-0
 8-30
ATTACH;FILENAME=IMG_0438.jpeg;FMTTYPE=image/jpeg:https://dq5pwpg1q8ru0.clou
 dfront.net/2023/10/09/17/01/37/6f82c5d8-e95d-4411-a68b-38802b5fc176/IMG_04
 38.jpeg
ATTACH;FILENAME=Screenshot 2026-04-02 at 3.17.12 PM.png;FMTTYPE=image/png
 :https://dq5pwpg1q8ru0.cloudfront.net/2026/04/03/16/33/28/cce8be04-519b-4f
 3d-b385-76981b9312c1/Screenshot%202026-04-02%20at%203.17.12%E2%80%AFPM.png
END:VEVENT
END:VCALENDAR
